BEGIN:VCALENDAR
VERSION:2.0
PRODID:icalendar-ruby
CALSCALE:GREGORIAN
METHOD:PUBLISH
BEGIN:VEVENT
DTSTAMP:20260421T091954Z
UID:39-341927@stthomaspres.com
DTSTART:20270121T170000Z
DTEND:20270121T190000Z
CLASS:PUBLIC
CREATED:20260401T152550
DESCRIPTION:
LAST-MODIFIED:20260401T152550
LOCATION:
SUMMARY:Senior Luncheon
URL;VALUE=URI:https://www.stthomaspres.com/events/senior-luncheon/2027-01-2
 1
END:VEVENT
END:VCALENDAR
