BEGIN:VCALENDAR
VERSION:2.0
PRODID:icalendar-ruby
CALSCALE:GREGORIAN
METHOD:PUBLISH
BEGIN:VEVENT
DTSTAMP:20260422T085019Z
UID:7-387454@stthomaspres.com
DTSTART:20261007T220000Z
DTEND:20261007T233000Z
CLASS:PUBLIC
CREATED:20260421T213613
DESCRIPTION:
LAST-MODIFIED:20260421T213613
LOCATION:
SUMMARY:Music Rehearsal
URL;VALUE=URI:https://www.stthomaspres.com/events/music-rehearsal/2026-10-0
 7
END:VEVENT
END:VCALENDAR
