BEGIN:VCALENDAR
VERSION:2.0
PRODID:icalendar-ruby
CALSCALE:GREGORIAN
METHOD:PUBLISH
BEGIN:VEVENT
DTSTAMP:20260421T212923Z
UID:27-298680@stthomaspres.com
DTSTART:20261123T233000Z
DTEND:20261124T010000Z
CLASS:PUBLIC
CREATED:20260311T150101
DESCRIPTION:
LAST-MODIFIED:20260311T150101
LOCATION:
SUMMARY:Bible Study
URL;VALUE=URI:https://www.stthomaspres.com/events/bible-study/2026-11-23
END:VEVENT
END:VCALENDAR
