BEGIN:VCALENDAR
VERSION:2.0
PRODID:icalendar-ruby
CALSCALE:GREGORIAN
METHOD:PUBLISH
BEGIN:VEVENT
DTSTAMP:20260421T174858Z
UID:27-298678@stthomaspres.com
DTSTART:20261026T223000Z
DTEND:20261027T000000Z
CLASS:PUBLIC
CREATED:20260311T150101
DESCRIPTION:
LAST-MODIFIED:20260311T150101
LOCATION:
SUMMARY:Bible Study
URL;VALUE=URI:https://www.stthomaspres.com/events/bible-study/2026-10-26
END:VEVENT
END:VCALENDAR
