BEGIN:VCALENDAR
VERSION:2.0
PRODID:icalendar-ruby
CALSCALE:GREGORIAN
METHOD:PUBLISH
BEGIN:VEVENT
DTSTAMP:20260423T085031Z
UID:27-298677@stthomaspres.com
DTSTART:20261012T223000Z
DTEND:20261013T000000Z
CLASS:PUBLIC
CREATED:20260311T150101
DESCRIPTION:
LAST-MODIFIED:20260311T150101
LOCATION:
SUMMARY:Bible Study
URL;VALUE=URI:https://www.stthomaspres.com/events/bible-study/2026-10-12
END:VEVENT
END:VCALENDAR
