BEGIN:VCALENDAR
VERSION:2.0
PRODID:icalendar-ruby
CALSCALE:GREGORIAN
METHOD:PUBLISH
BEGIN:VEVENT
DTSTAMP:20260421T105632Z
UID:27-298674@stthomaspres.com
DTSTART:20260824T223000Z
DTEND:20260825T000000Z
CLASS:PUBLIC
CREATED:20260311T150101
DESCRIPTION:
LAST-MODIFIED:20260311T150101
LOCATION:
SUMMARY:Bible Study
URL;VALUE=URI:https://www.stthomaspres.com/events/bible-study/2026-08-24
END:VEVENT
END:VCALENDAR
