BEGIN:VCALENDAR
VERSION:2.0
PRODID:icalendar-ruby
CALSCALE:GREGORIAN
METHOD:PUBLISH
BEGIN:VEVENT
DTSTAMP:20260423T185141Z
UID:28-298701@stthomaspres.com
DTSTART:20261208T233000Z
DTEND:20261209T013000Z
CLASS:PUBLIC
CREATED:20260311T150507
DESCRIPTION:
LAST-MODIFIED:20260311T150507
LOCATION:
SUMMARY:Bible and BREW
URL;VALUE=URI:https://www.stthomaspres.com/events/bible-and-brew/2026-12-08
END:VEVENT
END:VCALENDAR
