BEGIN:VCALENDAR
VERSION:2.0
PRODID:icalendar-ruby
CALSCALE:GREGORIAN
METHOD:PUBLISH
BEGIN:VEVENT
DTSTAMP:20260423T170718Z
UID:28-298700@stthomaspres.com
DTSTART:20261124T233000Z
DTEND:20261125T013000Z
CLASS:PUBLIC
CREATED:20260311T150507
DESCRIPTION:
LAST-MODIFIED:20260311T150507
LOCATION:
SUMMARY:Bible and BREW
URL;VALUE=URI:https://www.stthomaspres.com/events/bible-and-brew/2026-11-24
END:VEVENT
END:VCALENDAR
