BEGIN:VCALENDAR
VERSION:2.0
PRODID:icalendar-ruby
CALSCALE:GREGORIAN
METHOD:PUBLISH
BEGIN:VEVENT
DTSTAMP:20260423T134259Z
UID:28-298698@stthomaspres.com
DTSTART:20261027T223000Z
DTEND:20261028T003000Z
CLASS:PUBLIC
CREATED:20260311T150507
DESCRIPTION:
LAST-MODIFIED:20260311T150507
LOCATION:
SUMMARY:Bible and BREW
URL;VALUE=URI:https://www.stthomaspres.com/events/bible-and-brew/2026-10-27
END:VEVENT
END:VCALENDAR
