BEGIN:VCALENDAR
VERSION:2.0
PRODID:icalendar-ruby
CALSCALE:GREGORIAN
METHOD:PUBLISH
BEGIN:VEVENT
DTSTAMP:20260423T120026Z
UID:28-298697@stthomaspres.com
DTSTART:20261013T223000Z
DTEND:20261014T003000Z
CLASS:PUBLIC
CREATED:20260311T150507
DESCRIPTION:
LAST-MODIFIED:20260311T150507
LOCATION:
SUMMARY:Bible and BREW
URL;VALUE=URI:https://www.stthomaspres.com/events/bible-and-brew/2026-10-13
END:VEVENT
END:VCALENDAR
